BEGIN:VCALENDAR
VERSION:2.0
PRODID:-//Management Research Group - ECPv6.15.20//NONSGML v1.0//EN
CALSCALE:GREGORIAN
METHOD:PUBLISH
X-ORIGINAL-URL:https://www.mrg.com
X-WR-CALDESC:Events for Management Research Group
REFRESH-INTERVAL;VALUE=DURATION:PT1H
X-Robots-Tag:noindex
X-PUBLISHED-TTL:PT1H
BEGIN:VTIMEZONE
TZID:America/New_York
BEGIN:DAYLIGHT
TZOFFSETFROM:-0500
TZOFFSETTO:-0400
TZNAME:EDT
DTSTART:20240310T070000
END:DAYLIGHT
BEGIN:STANDARD
TZOFFSETFROM:-0400
TZOFFSETTO:-0500
TZNAME:EST
DTSTART:20241103T060000
END:STANDARD
BEGIN:DAYLIGHT
TZOFFSETFROM:-0500
TZOFFSETTO:-0400
TZNAME:EDT
DTSTART:20250309T070000
END:DAYLIGHT
BEGIN:STANDARD
TZOFFSETFROM:-0400
TZOFFSETTO:-0500
TZNAME:EST
DTSTART:20251102T060000
END:STANDARD
BEGIN:DAYLIGHT
TZOFFSETFROM:-0500
TZOFFSETTO:-0400
TZNAME:EDT
DTSTART:20260308T070000
END:DAYLIGHT
BEGIN:STANDARD
TZOFFSETFROM:-0400
TZOFFSETTO:-0500
TZNAME:EST
DTSTART:20261101T060000
END:STANDARD
BEGIN:DAYLIGHT
TZOFFSETFROM:-0500
TZOFFSETTO:-0400
TZNAME:EDT
DTSTART:20270314T070000
END:DAYLIGHT
BEGIN:STANDARD
TZOFFSETFROM:-0400
TZOFFSETTO:-0500
TZNAME:EST
DTSTART:20271107T060000
END:STANDARD
END:VTIMEZONE
BEGIN:VEVENT
DTSTART;TZID=America/New_York:20260325T120000
DTEND;TZID=America/New_York:20260325T124500
DTSTAMP:20260424T202747
CREATED:20260306T170131Z
LAST-MODIFIED:20260309T141943Z
UID:10000383-1774440000-1774442700@www.mrg.com
SUMMARY:WEBINAR: From Insight to Impact: Coaching with Context and Motivation
DESCRIPTION:Every client brings a unique mix of goals\, roles\, environments\, and internal drivers. \nJoin us for this interactive webinar\, where Dr. Maria Brown\, Head of Research and Education at MRG Assessments\, will introduce the concept of coaching for context\, a powerful approach that integrates leadership research\, behavioral feedback\, and motivational insight to deepen coaching impact. \nYou’ll learn how combining leadership assessments with motivation data can help coaches: \n\nQuickly uncover the context shaping a client’s effectiveness\nMove beyond “what clients do” to understand why they do it\nIdentify development paths that are both effective and sustainable\nUse assessments to evoke awareness and strengthen coaching conversations\n\nDrawing on research from thousands of leaders and decades of assessment science\, this 45-minute session will show how the right tools can help you tailor your coaching to each client’s unique situation. \nWhether you are an executive coach\, leadership consultant\, or organizational development professional\, you’ll gain practical insights into how context + motivation together can unlock deeper self-awareness and more meaningful change. \nJoin us to explore how adaptable assessment tools can help you coach with greater precision\, insight\, and impact. \n  \n 
URL:https://www.mrg.com/event/webinar-coaching-with-context-and-motivation/
LOCATION:Online
CATEGORIES:Webinar
ATTACH;FMTTYPE=image/jpeg:https://www.mrg.com/wp-content/uploads/2026/03/MRG_Insight-to-Impact-Coaching_Webinar_LinkedIn.jpg
END:VEVENT
BEGIN:VEVENT
DTSTART;TZID=America/New_York:20260121T120000
DTEND;TZID=America/New_York:20260121T130000
DTSTAMP:20260424T202747
CREATED:20260108T193603Z
LAST-MODIFIED:20260108T193603Z
UID:10000382-1768996800-1769000400@www.mrg.com
SUMMARY:WEBINAR: Leadership Perception Gaps: How to Identify and Address Them
DESCRIPTION:Small perception gaps can create big leadership problems. \nWhen leaders move fast\, subtle differences between how they see themselves and how others experience them can go unnoticed. Over time\, these gaps can quietly derail growth\, strain relationships\, and keep development focused on the wrong priorities. \nJoin us Wednesday\, January 21st\, as MRG Assessments partners with Vantage Leadership Consulting for a practical\, research-backed webinar led by Keith Goudy\, Ph.D. and our Head of Research and Education\, Maria Brown\, PhD\, BCC. \nYou’re invited to join this interactive session\, where you will learn how to:\n• Spot the perception gaps that matter most\n• Understand the unique line of sight different stakeholders bring\n• Interpret assessment data with greater precision\n• Turn insight into focused\, measurable leadership growth \nDrawing on large-scale leadership research\, assessment findings\, and real-world coaching tools\, this session blends MRG’s and Vantage’s expertise through the lens of the Leadership Effectiveness Analysis (LEA). \nIf your work involves developing leaders\, coaching executives\, or guiding organizational change\, this session will help sharpen where attention and effort truly belong. \n 
URL:https://www.mrg.com/event/webinar-leadership-perception-gaps/
LOCATION:Online
CATEGORIES:Webinar
ATTACH;FMTTYPE=image/jpeg:https://www.mrg.com/wp-content/uploads/2026/01/Vantage_MRG-webinar_Jan2026.jpg
END:VEVENT
BEGIN:VEVENT
DTSTART;TZID=America/New_York:20250923T100000
DTEND;TZID=America/New_York:20250923T110000
DTSTAMP:20260424T202747
CREATED:20250827T181758Z
LAST-MODIFIED:20250903T162704Z
UID:10000360-1758621600-1758625200@www.mrg.com
SUMMARY:Free Webinar /// Rescuing Potential: Coaching Underperforming Leaders to Lasting Success
DESCRIPTION:When leaders underperform\, the impact reverberates beyond their own performance. It can erode team motivation\, damage morale\, and stall organizational results. The good news? With the right insights and tools\, struggling leaders can turn their performance around and become catalysts for lasting success. \n  \nIn this 45-minute\, research-driven webinar\, we’ll explore how to spot early warning signs of underperformance and apply effective coaching strategies that transform challenges into growth. You’ll gain practical\, actionable approaches for guiding at-risk leaders toward stronger\, more sustainable leadership. \n  \nIn this session\, you’ll discover: \n  \n– The 4 most common profiles of underperforming leaders \n  \n– How to recognize the patterns that signal less effective leadership \n– Proven\, behavior-based coaching strategies to help leaders overcome struggles and thrive \n  \nWhether you’re an executive coach\, HR professional\, or organizational leader\, this webinar will equip you with the knowledge and strategies to rescue potential before it’s lost\, and set leaders (and their teams) on a path to lasting success.
URL:https://www.mrg.com/event/free-webinar-rescuing-potential-coaching-underperforming-leaders-to-lasting-success/
LOCATION:Online
CATEGORIES:Webinar
ATTACH;FMTTYPE=image/png:https://www.mrg.com/wp-content/uploads/2025/08/Coaching-At-Risk-Leaders-Graphic.png
END:VEVENT
END:VCALENDAR